
BEGIN:VCALENDAR
VERSION:2.0
PRODID:-//Centre Excursionista Benicassim - ECPv4.5.13//NONSGML v1.0//EN
CALSCALE:GREGORIAN
METHOD:PUBLISH
X-WR-CALNAME:Centre Excursionista Benicassim
X-ORIGINAL-URL:http://centreexcursionistabenicassim.org
X-WR-CALDESC:Events for Centre Excursionista Benicassim
BEGIN:VEVENT
DTSTART;VALUE=DATE:20251220
DTEND;VALUE=DATE:20251220
DTSTAMP:20260419T132931
CREATED:20250715T175246Z
LAST-MODIFIED:20250715T180557Z
UID:2391-1766188800-1766275199@centreexcursionistabenicassim.org
SUMMARY:EXCURSIÓ: SUCAINA-LLUDIENT
DESCRIPTION:ITINERARI: Eixida amb autobús des de Castelló a les 7:45 h i des de Benicàssim a les 8:00 h.\nEixirem des de l’ermita de Santa Ana pel camí de Sucaina. Quan portarem 2\,3 km ens desviarem per a vore el complex ibèric d’arquitectura funerària de Los Cabañiles. A la Santanica\, deixarem el camí de Sucaina i pels Planos de la Loma anirem a buscar Los Picayos\, un privilegiat mirador sobre el barranc del Mas d’Aguilar.\nSeguirem pel sender que travessa el barranc entrant al terme del Castell de Vilamalefa. Aquest sender aboca a una pista que acaba al mas de Las Umbrias de Abajo; continuarem per una sendera ascendent al mas de Las Umbrías de Arriba\, arribarem al mas i al vèrtex geodèsic de Loma Benachera de 917 m.\nEntrarem al terme de Lludient i arribarem a una gran masada\, Benachera\, on mamprendrem el preciós vell camí\, ben conservat\, que passa per l’ermiteta de Santa Rosa de Lima\, i ens durà en un prolongat i suau descens fins a Lludient. \nOBSERVACIONS: Excursió de tot el dia. Cal dur aigua\, esmorzar i dinar.\nENCARREGAT: Paco Ripollés\nPREU: 20 €\nTRANSPORT: Autobús de 35 places\nDistància total: 14\,8 km\nDesnivell pujada; 300 m\nDesnivell baixada: 640 m\nAltura màxima: 910 m\nAltura mínima: 400 m\nAltura inici: 770 m\nAltura final: 430 m\nRàtio pujada: 7\,66 %\nRàtio baixada: 9\,26 % \n
URL:http://centreexcursionistabenicassim.org/event/excursio-sucaina-lludient/
CATEGORIES:Activitats
ATTACH;FMTTYPE=image/jpeg:http://centreexcursionistabenicassim.org/wp-content/uploads/2025/07/Santa-Ana-R.jpg
END:VEVENT
END:VCALENDAR