
BEGIN:VCALENDAR
VERSION:2.0
PRODID:-//Centre Excursionista Benicassim - ECPv4.5.13//NONSGML v1.0//EN
CALSCALE:GREGORIAN
METHOD:PUBLISH
X-WR-CALNAME:Centre Excursionista Benicassim
X-ORIGINAL-URL:http://centreexcursionistabenicassim.org
X-WR-CALDESC:Events for Centre Excursionista Benicassim
BEGIN:VEVENT
DTSTART;VALUE=DATE:20251214
DTEND;VALUE=DATE:20251214
DTSTAMP:20260419T133007
CREATED:20250715T174741Z
LAST-MODIFIED:20250715T180636Z
UID:2389-1765670400-1765756799@centreexcursionistabenicassim.org
SUMMARY:EXCURSIÓ I DINAR DE NADAL
DESCRIPTION:UNA VOLTA PEL DESERT DE LES PALMES I DINAR DE GERMANOR AL RESTAURANT PINARLANDIA DE BENICÀSSIM\nTornem a proposar el dinar de germanor que tan bona acollida va tindre l’any passat però primer\, com a bons excursionistes\, una caminada. \nITINERARI: Eixirem a les 9:00 des de la font del Senyor (davant de l’església).\nPassem per sota de la N-340 i ens dirigim a la part inferior de la urbanització Montemolino. Passem per davant dels depòsits de la font del Senyor i entrem al barranc de Farja\, passem per sota de l’autopista AP-7 i continuem fins al mas del Salandó; continuem fins a l’encreuament que ens durà a la font del Pare Sant\, continuem per senda paral·lela al barranc de les Agulles i ens desviem a la dreta. Passem pel costat del tossal de Moltó\, tornem a travessar l’autopista AP-7 pel pas que canalitza el barranc dels Covarxos. Continuem per sota del ferrocarril i de la N-340 i finalitzem la ruta a la zona del supermercat Lidl.\nOBSERVACIONS: Ruta de dificultat baixa. Cota d’inici: 17 m. Cota màxima= 200 m (al costat del tossal de Moltó). Porteu aigua\, esmorzar i protecció solar.\nDISTÀNCIA: 9 km\nENCARREGADA: Mariana Sánchez \nA continuació anirem al restaurant PINARLANDIA\, situat al carrer Bisbe Serra\, 16\, de Benicàssim (el mateix a què vam anar l’any passat). \nQueda per concretar el preu del dinar\, que es comunicarà en el seu moment. \n
URL:http://centreexcursionistabenicassim.org/event/excursio-i-dinar-de-nadal/
CATEGORIES:Activitats,Especials
END:VEVENT
END:VCALENDAR