
BEGIN:VCALENDAR
VERSION:2.0
PRODID:-//Centre Excursionista Benicassim - ECPv4.5.13//NONSGML v1.0//EN
CALSCALE:GREGORIAN
METHOD:PUBLISH
X-WR-CALNAME:Centre Excursionista Benicassim
X-ORIGINAL-URL:http://centreexcursionistabenicassim.org
X-WR-CALDESC:Events for Centre Excursionista Benicassim
BEGIN:VEVENT
DTSTART;TZID=UTC+0:20251207T083000
DTEND;TZID=UTC+0:20251207T140000
DTSTAMP:20260419T132909
CREATED:20250715T174417Z
LAST-MODIFIED:20250715T180613Z
UID:2386-1765096200-1765116000@centreexcursionistabenicassim.org
SUMMARY:EXCURSIÓ FIGUEROLES-TORREMUNDO-FIGUEROLES
DESCRIPTION:ITINERARI: Ens concentrarem a Benicàssim i a Castelló per omplir cotxes a les 8:30 h per tal de reagrupar-nos. Una volta arribem a Figueroles aparcarem els cotxes a l’aparcament de la piscina\, que està a l’eixida del poble a l’esquerra.\nPujarem per la pista del Boiro i empalmarem amb el sender que va de l’Alcora a Llucena fins arribar a l’altura màxima (777 m\, Torrremundo). La baixada serà pel mas de la Torre fins arribar a Figueroles.\nOBSERVACIONS: Excursió de mig dia\, cal portar esmorzar i aigua.\nESTADÍSTIQUES DE LA RUTA:\nDistància: 13 km\nAltura màxima 777 m\nAltura mínima: 327 m\nDesnivell positiu: 494 m\nDesnivell negatiu: 494 m\nENCARREGADA: Ana Muñoz\nTRANSPORT: Cotxes particulars \n
URL:http://centreexcursionistabenicassim.org/event/excursio-figueroles-torremundo-figueroles/
CATEGORIES:Activitats
END:VEVENT
END:VCALENDAR