
BEGIN:VCALENDAR
VERSION:2.0
PRODID:-//Centre Excursionista Benicassim - ECPv4.5.13//NONSGML v1.0//EN
CALSCALE:GREGORIAN
METHOD:PUBLISH
X-WR-CALNAME:Centre Excursionista Benicassim
X-ORIGINAL-URL:http://centreexcursionistabenicassim.org
X-WR-CALDESC:Events for Centre Excursionista Benicassim
BEGIN:VEVENT
DTSTART;VALUE=DATE:20251102
DTEND;VALUE=DATE:20251102
DTSTAMP:20260419T150213
CREATED:20250715T171430Z
LAST-MODIFIED:20250911T104218Z
UID:2372-1762041600-1762127999@centreexcursionistabenicassim.org
SUMMARY:EXCURSIÓ INTERCOMARCAL: CIRCULAR POBLA D'ARENÓS – EL MORRÓN - OLBA
DESCRIPTION:Data: diumenge\, 2 de novembre de 2025 \nOrganitza: Centre Excursionista De Borriana\nObservacions: Excursió circular de tot el dia. Material: Calçat de muntanya\, amb sola con bon relleu i agarre\, roba segons previsió\nmeteorològica\, bastons de senderisme\, esmorzar\, dinar i aigua per a tot el dia.\nTransport: AUTOBÚS.\nPreu: 15€/persona (Places limitades)\nEixida a les 6:45h des de Benicàssim (Plaça de les Corts Valencianes)\nInscripció: Cada club gestiona les seues inscripcions. \nDistància: 17km\nDesnivell: 650m\nTemps estimat: 7 hores. \nDESCRIPCIÓ DE LA RUTA:\nComençarem la ruta des de la Font de la Salut\, situada als afores de Pobla d’Arenós\, ascendint per sender cap al caseriu abandonat del Chorrico. Durant aquesta primera part del recorregut gaudirem d’excel·lents vistes sobre la població i la cua de l’embassament de Sorrenc. A la masia El Chorrito farem parada per esmorzar. El sender continua cap a l’ermita de Sant Tomàs\, una petita construcció que conserva el seu encant senzill. A continuació\, passarem pel llogaret en ruïnes del Cerrito. Després d’aquest punt\, el paisatge canvia visiblement: avançarem per una zona afectada per l’incendi de 2023\, on la vegetació arbòria ha desaparegut en gran part\, deixant pas a un entorn més àrid i obert\, marcat per l’impacte del foc. Aquest tram\, encara que menys ombrejada\, ofereix un recorregut singular per un entorn en procés de regeneració natural. Seguirem fins a l’espectacular mirador natural del Morrón d’Olba\, el punt més elevat de la ruta (970 m)\, amb vistes panoràmiques als quatre punts cardinals. Des d’ací iniciem el descens més tècnic de tota la jornada\, cap a la població d’Olba. Aquest tram és delicat i es recomana l’ús de bastons.\nAbans d’entrar al poble\, ens aturarem a l’ermita de Sant Pere\, tan humil i acollidora com la de Sant Tomàs. Dinarem a Olba\, gaudint d’un merescut descans abans d’afrontar el tram final. Tornarem seguint el PR-VT 126\, passant per diversos nuclis com Los Moyas\, Los Peirós\,Los Cantos\, i la font de l’Almajal\, abans d’arribar a la carretera que ens tornarà a la Font de la Salut\, punt inicial d’aquesta ruta. \n
URL:http://centreexcursionistabenicassim.org/event/excursio-intercomarcal-cortes-darenos-penyes-del-salto-i-jaciment-de-los-morrones/
CATEGORIES:Activitats
END:VEVENT
END:VCALENDAR