
BEGIN:VCALENDAR
VERSION:2.0
PRODID:-//Centre Excursionista Benicassim - ECPv4.5.13//NONSGML v1.0//EN
CALSCALE:GREGORIAN
METHOD:PUBLISH
X-WR-CALNAME:Centre Excursionista Benicassim
X-ORIGINAL-URL:http://centreexcursionistabenicassim.org
X-WR-CALDESC:Events for Centre Excursionista Benicassim
BEGIN:VEVENT
DTSTART;VALUE=DATE:20251018
DTEND;VALUE=DATE:20251025
DTSTAMP:20260419T163742
CREATED:20250912T105142Z
LAST-MODIFIED:20250912T105142Z
UID:2400-1760745600-1761436799@centreexcursionistabenicassim.org
SUMMARY:AGERMANAMENT 2025. BENICÀSSIM\, NECKARGEMÜND\, EVIAN - LES -BAINS
DESCRIPTION:Dissabte 18 octubre: Arribada dels grups a Benidorm. A les 19:00 Recepció de benvinguda\nDissabte 25 octubre: Fi de l’Agermanament \nHOTEL: Hotel Presidente. Benidorm\nHORARIS: 8:00 Desdejuni 8:30 Eixida autobusos \nPROGRAMA \nDIUMENGE\, 19 D’OCTUBRE.\nPARC NATURAL DE LA SERRA GELADA\nLa Serra Gelada és un espai protegit que forma part de la xarxa de parcs naturals de la Comunitat Valenciana des de 2005. Està formada per un impressionant relleu\, que dona lloc\, en la seua part litoral\, a penya-segats de més de 300 m d’altura. \nGRUP 1: TRAVESSIA DE LA SERRA GELADA\nPunt d’eixida: L’Alfàs de Pi\nTipus de recorregut: Lineal\nDistància: 12.21km\nDesnivell positiu: 650.07m\nDesnivell negatiu: 687.16m \nGRUP 2: FAR D’ALBIR\nPunt d’eixida: L’Alfàs de Pi\nTipus de recorregut: Lineal\nDistància: 8.42km\nDesnivell positiu: 214.78m\nDesnivell negatiu: 212.69m \nDILLUNS 20 D’OCTUBRE\nPARC NATURAL DEL PENYAL D’IFAC\nEste paratge va ser declarat parc natural en 1987. El parc està situat en un penyal aïllat en la costa nord de la província d’Alacant. Té una altitud de 332 metres i constituïx un dels últims contraforts de les serralades Bètiques.\nDurant l’excursió es visitaran les Salines de Calp. \nGRUP 1: PUJADA AL CIM DEL PENYAL\nPunt d’eixida: Calp\nTipus de recorregut: Lineal\nDistància: 7.99km\nDesnivell positiu: 281.34m\nDesnivell negatiu: 272.80m \nGRUP 2: PUJADA FINS EL TÚNEL DEL PENYAL\nPunt d’eixida: Calp\nTipus de recorregut: Lineal\nDistància: 6.46km\nDesnivell positiu: 181.45m\nDesnivell negatiu: 172.81m \nA la vesprada els dos grups visitarem el Canó de Mascarat\nPunt d’eixida: Altea\nTipus de recorregut: Lineal\nDistància: 3.95km\nDesnivell: 171.20m \nDIMARTS 21 D’OCTUBRE\nFINESTRAT.\nGRUPS 1A-1B: CIRCULAR PUIG CAMPANA I PUJADA AL CIM\nEl Puig Campana és la segona muntanya més alta de la província d’Alacant (1408m). En la pujada\, vistes espectaculars a la mar i la Serra Gelada de Benidorm.\nÉs una ruta circular a la muntanya amb la possibilitat de fer cim. Tots els participants arribaran junts fins al Coll de Pouet (883 m.) Els que vulguen\, iniciaran la pujada al cim delPuig Campana en ruta d’anada i tornada. La resta continuarà la baixada fins a la Font del\nMolí\, on s’ha iniciat l’excursió. \nPunt d’eixida: Font del Molí – Finestrat\nTipus de recorregut: Circular\nGrup 1A: Distància: 12.11km. Desnivell: 665m\nGrup 1B: Distància: 14.90km Desnivell: 1160m \nGRUP 2: DE BENIDORM A LA VILAJOIOSA PER LA COSTA I VISITA XOCOLATERIA VALOR\nBonic i senzill passeig per a conèixer la zona litoral que hi ha entre la Cala de Finestrat i la Vilajoiosa. En finalitzar l’excursió es visitarà la fàbrica de xocolates Valor \nPunt d’eixida: Platja de Finestrat\nTipus de recorregut: Lineal\nDistància: 8.76km\nDesnivell positiu: 166.10m\nDesnivell negatiu: 136.02m \nDIMECRES 22 D’OCTUBRE\nGRUP 1: BARRANC DE L’INFERN\nÉs un itinerari d’origen morisc\, que es troba a la Vall de Laguar\, amb un valuós llegat cultural protegit per la UNESCO: l’arquitectura de pedra en sec. Esta ruta és coneguda com “La catedral del senderisme” pels seus 6.800 escalons que servien per a accedir a les zones de labor agrícola.\nPunt d’eixida: Fleix\nTipus de recorregut: Circular\nDistància: 12.20km\nDesnivell : 804m \nGRUP 2: CALA DE LA GRANADELLA\nTranquil·la excursió que ens porta a la bonica cala de la Granadella. És una cala rústica\, de grava\, d’uns 160m de longitud en forma de petxina amb aigua blava turquesa. La badia tancada i els promontoris a cada costat la fan semblar una piscina natural de la mar. \nPunt d’eixida: Xàbia\nTipus de recorregut: Circular\nDistància: 8.94km\nDesnivell positiu: 211.40m\nDesnivell negatiu: 212.17m \nDIJOUS 23 D’OCTUBRE. ILLA DE TABARCA\nTabarca és l’única illa habitada de la Comunitat Valenciana i està situada prop del cap de Santa Pola. Posseeix una longitud aproximada de 1.800 metres i una amplària màxima d’uns 400 metres.\nEn el segle XVIII\, es va fortificar i va ser ocupada per famílies de pescadors genovesos que estaven captius a la ciutat tunisiana de Tabarka. Les muralles que envolten el seu nucli urbà han sigut declarades Conjunt Històric Artístic i Bé d’Interès Cultural. \nDINAR DE GERMANOR: Restaurant Amparín a l’Illa de Tabarca\nEns desplaçarem fins a Santa Pola amb autobús per a\, a les 11.30h\, creuar en catamarà a l’illa de Tabarca on dinarem i passarem el dia.\nA les 16.50h volta en el vaixell als autobusos \nDIVENDRES 24 D’OCTUBRE.\nGRUP 1: LA SERRA DE BÈRNIA\nLa seua proximitat a la costa\, la seua altitud de 1126 m i les espectaculars vistes que oferix\, tant del litoral com de l’interior\, fan que esta ruta siga un dels recorreguts més populars d’Alacant.\nEn el seu tram final\, ja molt pròxim a la cresta\, se situa l’entrada nord del “Forat de Bèrnia”\, un túnel natural de formació càrstica (dissolució de la roca calcària per efecte de l’aigua)\, d’uns\n15 metres de longitud\, que ens permet creuar a la vessant sud de la serra. \nPunt d’eixida: Cases de Bèrnia\nTipus de recorregut: Circular\nDistància: 8.70km\nDesnivell: 475m \nGRUP 2: CASTELL I EMBASSAMENT DE GUADALEST\nVisita pel centre històric del poble i bonica ruta per la vora de l’embassament de Guadalest\, amb impressionants vistes del castell. El centre històric forma part de l’associació Els Pobles Més Bonics d’Espanya i està declarat conjunt històric-artístic.\nL’embassament rep l’aigua del riu Guadalest (afluent de l’Algar) i va ser construït en 1969 per a garantir el subministrament d’aigua per a regar. \nPunt d’eixida: Castell de Guadalest\nTipus de recorregut: Lineal\nDistància: 5.68km\nDesnivell positiu: 193.40m\nDesnivell negatiu: 193.93m \n
URL:http://centreexcursionistabenicassim.org/event/agermanament-2025-benicassim-neckargemund-evian-les-bains/
CATEGORIES:Activitats,Especials
ATTACH;FMTTYPE=image/jpeg:http://centreexcursionistabenicassim.org/wp-content/uploads/2025/07/BENIDORM.jpg
END:VEVENT
END:VCALENDAR