
BEGIN:VCALENDAR
VERSION:2.0
PRODID:-//Centre Excursionista Benicassim - ECPv4.5.13//NONSGML v1.0//EN
CALSCALE:GREGORIAN
METHOD:PUBLISH
X-WR-CALNAME:Centre Excursionista Benicassim
X-ORIGINAL-URL:http://centreexcursionistabenicassim.org
X-WR-CALDESC:Events for Centre Excursionista Benicassim
BEGIN:VEVENT
DTSTART;VALUE=DATE:20251004
DTEND;VALUE=DATE:20251004
DTSTAMP:20260419T163643
CREATED:20250715T170643Z
LAST-MODIFIED:20250715T180540Z
UID:2366-1759536000-1759622399@centreexcursionistabenicassim.org
SUMMARY:EXCURSIÓ: DEL PANTÀ D’ULLDECONA A FREDES PEL SALT DE ROBERT I EL BARRANC DE L’INFERN.
DESCRIPTION:ITINERARI: Ens concentrarem a Benicàssim i a Castelló per a omplir cotxes a les 8 h\, i ens reagruparem a l’ermita de Sant Vicent a Borriol a les 8:20 h. D’allí continuarem per la CV-10 fins al pantà d’Ulldecona (al terme de la Sénia). Per tal d’acurtar la caminada ens endinsarem per pista uns 4 km amb el cotxes fins al punt d’eixida\, on podrem esmorzar.\nLa ruta és de caràcter alpí\, ja que durant la primera meitat avançarem en ascens fins a la cota màxima del dia\, a 1.136 m per després seguir l’altra meitat en descens. Visitarem paisatges tant vistosos com el salt de Robert\, la font del Teix\, la panoràmica des del mas de Pixon\, el portell de l’Infern… A mitan camí\, podem acostar-nos al poble de Fredes per a refrescar-nos i un poc abans d’acabar la ruta\, ja de tornada\, dinar pel barranc del Salt\, amb unes vistes espectaculars de la Tenalla.\nOBSERVACIONS: Ruta circular. Distància: 14\,8 km. Desnivell positiu: 680 m. Desnivell de baixada: 680 m. Altura mínima. 504 m i màxima: 1.136 m. Temps estimat caminant: 4 h 05 min. Cal dur aigua\, esmorzar i dinar.\nENCARREGAT: Alexandre Viñals\nPREU: Gratuïta\nTRANSPORT: Cotxes particulars \n
URL:http://centreexcursionistabenicassim.org/event/excursio-del-panta-dulldecona-a-fredes-pel-salt-de-robert-i-el-barranc-de-linfern/
CATEGORIES:Activitats
ATTACH;FMTTYPE=image/jpeg:http://centreexcursionistabenicassim.org/wp-content/uploads/2025/07/ALEJANDRO-R.jpg
END:VEVENT
END:VCALENDAR