
BEGIN:VCALENDAR
VERSION:2.0
PRODID:-//Centre Excursionista Benicassim - ECPv4.5.13//NONSGML v1.0//EN
CALSCALE:GREGORIAN
METHOD:PUBLISH
X-WR-CALNAME:Centre Excursionista Benicassim
X-ORIGINAL-URL:http://centreexcursionistabenicassim.org
X-WR-CALDESC:Events for Centre Excursionista Benicassim
BEGIN:VEVENT
DTSTART;VALUE=DATE:20250928
DTEND;VALUE=DATE:20250928
DTSTAMP:20260419T182226
CREATED:20250715T170337Z
LAST-MODIFIED:20250715T170337Z
UID:2364-1759017600-1759103999@centreexcursionistabenicassim.org
SUMMARY:DIA DE LA MUNTANYA NETA
DESCRIPTION:ORGANITZA: SASE\nCOL·LABORA: ASSOCIACIÓ ORIWA\nLLOC: BEGÍS\nAtenció: Ens falta confirmar el lloc i hora d’eixida. Vos els comunicarem en el moment de rebre la informació del centre organitzador.\nJornada de voluntariat per a contribuir a la regeneració de les àrees afectades per l’incendi de Begís de 2022\, en concret eliminació de plançons de pi blanc i recuperació del sender vora el riu Palància.\nTransport en autobús amb un cost de 15\,00 €. Cal dur esmorzar\, dinar\, aigua i tot el necessari per a la pràctica del senderisme. \n
URL:http://centreexcursionistabenicassim.org/event/dia-de-la-muntanya-neta/
CATEGORIES:Activitats
END:VEVENT
END:VCALENDAR