
BEGIN:VCALENDAR
VERSION:2.0
PRODID:-//Centre Excursionista Benicassim - ECPv4.5.13//NONSGML v1.0//EN
CALSCALE:GREGORIAN
METHOD:PUBLISH
X-WR-CALNAME:Centre Excursionista Benicassim
X-ORIGINAL-URL:http://centreexcursionistabenicassim.org
X-WR-CALDESC:Events for Centre Excursionista Benicassim
BEGIN:VEVENT
DTSTART;TZID=UTC+0:20250921T073000
DTEND;TZID=UTC+0:20250921T140000
DTSTAMP:20260419T182210
CREATED:20250715T170148Z
LAST-MODIFIED:20250715T180434Z
UID:2361-1758439800-1758463200@centreexcursionistabenicassim.org
SUMMARY:EXCURSIÓ A FANZARA: COVA LA MOLA\, LA LLEUJA I L'ESCALETA
DESCRIPTION:Farem un bonic recorregut pel seu terme municipal de Fanzara per a visitar el més representatiu del seu entorn natural i en acabar hi ha la possibilitat de prendre el bany al riu o de visitar el MIAU (Museu Inacabat d’Art Urbà). \nITINERARI: Eixida a las 7:45 h dels llocs habituals en cotxes particulars fins a Fanzara\, per a començar a caminar a les 8:30 h\, des de l’aparcament de la piscina. \nIniciem la marxa per camins rurals\, però prompte agafarem el sender que des de la CV-20 ens porta a la cova de la Mola. Aquest sender és de pujada constant durant 1\,6 km; és el més dur que hem d’afrontar en la ruta. Visitarem la cova\, que té una gran boca d’entrada i accés fàcil\, i després per senders que travessen alguns barrancs i grans pinades arribarem al poblat morisc de la Lleuja\, rebatejat amb el nom de Los Casales\, que fou abandonat amb l’expulsió dels moriscs al 1609.\nSeguirem en direcció al riu Millars; en un encreuament ens desviarem per a fer el pas per l’Escaleta (un tram aeri sobre el riu que salva un congost aprofitant una antiga séquia). Està condicionat amb baranes i cables i no té gens de risc.\nEls darrers 2 km els farem caminant prop del riu\, el qual travessarem en quatre ocasions amb un toll d’uns 30 cm d’aigua. Podrem travessar-lo amb les sabatilles de caminar que duguem\, ja que estem prop del final\, o amb sabatilles d’aigua (cranqueres) per a canviar-se en cada cruïlla. \nOBSERVACIONS: Excursió de mig dia; temps estimat: 5 hores de ruta.\nENCARREGAT: Santiago Nebot\nTRANSPORT: Cotxes particulars\nDistància total: 13 km\nDesnivell positiu: 470 m\nAltura inici: 191 m\nAltura màxima: 577 m \n
URL:http://centreexcursionistabenicassim.org/event/excursio-a-fanzara-cova-la-mola-la-lleuja-i-lescaleta/
CATEGORIES:Activitats
ATTACH;FMTTYPE=image/jpeg:http://centreexcursionistabenicassim.org/wp-content/uploads/2025/07/FANZARA-SANTI-NEBOT-R.jpg
END:VEVENT
END:VCALENDAR