
BEGIN:VCALENDAR
VERSION:2.0
PRODID:-//Centre Excursionista Benicassim - ECPv4.5.13//NONSGML v1.0//EN
CALSCALE:GREGORIAN
METHOD:PUBLISH
X-WR-CALNAME:Centre Excursionista Benicassim
X-ORIGINAL-URL:http://centreexcursionistabenicassim.org
X-WR-CALDESC:Events for Centre Excursionista Benicassim
BEGIN:VEVENT
DTSTART;VALUE=DATE:20250711
DTEND;VALUE=DATE:20250711
DTSTAMP:20260419T211718
CREATED:20250618T093911Z
LAST-MODIFIED:20250618T093911Z
UID:2352-1752192000-1752278399@centreexcursionistabenicassim.org
SUMMARY:SOPAR DE GALA SENDERISTA I EXCURSIÓ DE LA LLUNA PLENA.
DESCRIPTION:Com que ja anem sent uns veterans i el nostre Centre compleix eixos dies el seu 25é aniversari\, volem fer confluir eixa data amb la de la lluna plena de juliol per celebrar un sopar de germanor en el restaurant Artemio de Torre la Sal.\nUna vegada acabat el sopar sota la llum de la lluna i amb «musiqueta adequada»\, començarem la nostra excursió a peu de tornada a Benicàssim fins a arribar al Voramar. \nORGANITZACIÓ: L’eixida la farem des del pàrquing de l’hotel Voramar a les 20:00 h amb autobús que ens durà fins al restaurant Artemio de Torre la Sal. Sopar a les 20:30 h.\nA partir de les 23:00 farem el camí de tornada a peu fins a Benicàssim (qui no gose fer l’excursió podrà anar i tornar fins a l’Artemio amb el seu cotxe). \nDETALLS DE L’EXCURSIÓ:\nDistància total: 14\,14 km\nDesnivell: 25 m\nOBSERVACIONS: Cal portar roba i calcer còmode i una llanterna per si la lluna ens fa una mala passada i no apareix.\nEl preu de l’autobús i música en viu correrà per compte del Centre Excursionista amb motiu del pressupost reservat per al 25é aniversari. Import a pagar: 21 €.\nENCARREGADES: Esperanza Segarra i Mariana Sánchez \n
URL:http://centreexcursionistabenicassim.org/event/sopar-de-gala-senderista-i-excursio-de-la-lluna-plena/
CATEGORIES:Activitats
END:VEVENT
END:VCALENDAR