
BEGIN:VCALENDAR
VERSION:2.0
PRODID:-//Centre Excursionista Benicassim - ECPv4.5.13//NONSGML v1.0//EN
CALSCALE:GREGORIAN
METHOD:PUBLISH
X-WR-CALNAME:Centre Excursionista Benicassim
X-ORIGINAL-URL:http://centreexcursionistabenicassim.org
X-WR-CALDESC:Events for Centre Excursionista Benicassim
BEGIN:VEVENT
DTSTART;VALUE=DATE:20250614
DTEND;VALUE=DATE:20250615
DTSTAMP:20260419T224328
CREATED:20241231T095755Z
LAST-MODIFIED:20241231T095755Z
UID:2333-1749859200-1750031999@centreexcursionistabenicassim.org
SUMMARY:EXCURSIÓ: CAP DE SETMANA A LA SERRA DE GÚDAR (II)
DESCRIPTION:Es tracta del segon cap de setmana d’un cicle de tres\, que en diferents campanyes ens permetrà recórrer una bona part de la serra de Gúdar. Si arribem a completar l’itinerari sencer\, al llarg dels tres anys haurem caminat per Mosquerola\, Linares de Mora\, Alcalà de la Selva\, Gúdar\, Valdelinares i Puertomingalvo. Tot un repte per a conèixer unes terres i paisatges plenes d’història i de natura\, que en la proposta que vos faig entenc que són a l’abast de tothom.\nAquest segon any començarem on vam acabar l’any passat: a La Virgen de la Vega (Alcalà de la Selva)\, per a arribar en dos dies a Valdelinares. La ruta transcorre per sendes i pistes forestals que no tenen gens de dificultat tècnica. Transitarem entre 1.400 i 1.800 m d’altura. \nITINERARI:\nDissabte\, 14 de juny. L’autobús arreplegarà els participants en tres punts:\nCastelló (c/ Pintor Carbó 14) a les 7.30 h\nBenicàssim (Corts Valencianes) a les 7.45 h\nPunt de trobada CV-10 (antiga Marie Claire) a les 8.00 h\nAlcalà de la Selva – Gúdar\nEn arribar podem esmorzar\, café inclòs\, i fer un petit recorregut pel poble d’Alcalà de la Selva. Dinarem a la muntanya. El sopar i desdejuni de l’endemà el farem a l’hostal Gúdar.\nOBSERVACIONS: Temps estimat caminant: 3 h 30 min\nDISTÀNCIA TOTAL: 11.5Km\, DESNIVELL PUJADA: 395m\, DESNIVELL BAIXADA: 185m\, ALTURA INICI: 1387m\, ALTURA FINAL: 1594m\, ALTURA MÀXIMA: 1603m \nDiumenge\, 15 de juny Gúdar-Valdelinares\nEl desdejuni serà al mateix hostal. Pel camí trobarem molts masos dedicats a la ramaderia i una curiosa ermita de Santa Quitèria. En arribar a Valdelinares\, que com sabeu és el municipi més alt d’Espanya a 1.692 m\, ens arreplegarà l’autobús per a portar-nos a dinar\, si es possible a Linares de Mora.\nOBSERVACIONS: Temps estimat caminant: 3 h 45 min\nDISTÀNCIA TOTAL:  12\, 4Km\, DESNIVELL PUJADA: 345m\, DESNIVELL BAIXADA: 280m\, ALTURA INICI: 1594m\, ALTURA FINAL: 1692m\, ALTURA MÀXIMA: 1780m \nENCARREGAT: Alexandre Viñals.\nPREU: L’hostal encara no ens dona preus per l’any que ve\, per la qual cosa ho anunciarem al més aviat possible.\nTRANSPORT: Autobús. \n
URL:http://centreexcursionistabenicassim.org/event/excursio-cap-de-setmana-a-la-serra-de-gudar-ii/
CATEGORIES:Activitats
ATTACH;FMTTYPE=image/jpeg:http://centreexcursionistabenicassim.org/wp-content/uploads/2024/12/IMG_20240829_103258.jpg
END:VEVENT
END:VCALENDAR