
BEGIN:VCALENDAR
VERSION:2.0
PRODID:-//Centre Excursionista Benicassim - ECPv4.5.13//NONSGML v1.0//EN
CALSCALE:GREGORIAN
METHOD:PUBLISH
X-WR-CALNAME:Centre Excursionista Benicassim
X-ORIGINAL-URL:http://centreexcursionistabenicassim.org
X-WR-CALDESC:Events for Centre Excursionista Benicassim
BEGIN:VEVENT
DTSTART;VALUE=DATE:20250413
DTEND;VALUE=DATE:20250413
DTSTAMP:20260420T012453
CREATED:20241230T190602Z
LAST-MODIFIED:20241230T190602Z
UID:2315-1744502400-1744588799@centreexcursionistabenicassim.org
SUMMARY:EXCURSIÓ: DE VILLANUEVA DE VIVER A PINA DE MONTALGRAO.
DESCRIPTION:En el terme d’aquesta localitat es va declarar un paorós incendi l’any 2023 que va arrasar gairebé 5000 hectàrees. L’incendi es va desplaçar cap al nord-oest i nosaltres anirem cap al sud\, de manera que farem l’excursió entre frondoses i verdes pinades. \nITINERARI: Pujada al bus a Castelló a les 7.30 h per anar a Benicàssim a arreplegar la gent\, fer una darrera parada i ja anar cap a Villanueva de Viver. Eixirem del poble per zona de camps de cultiu cap a l’ermita de Sant Martí\, on podrem esmorzar. Després anirem a buscar la falda de la muntanya de Pina\, per a pujar a poc a poc a l’ermita de Santa Bàrbara\, situada al bell mig del cim\, allí ens trobarem en un entorn que ens recordarà al nostre Bartolo. Des d’allí començarem la baixada cap a Pina i ens aturarem a dinar a una zona de pícnic coneguda com La Pimpollada. \nOBSERVACIONS: Excursió de tot el dia. Cal dur aigua\, esmorzar\, dinar i bon calcer\, a més de l’assegurança d’accidents en muntanya. \nDISTÀNCIA TOTAL: 10.5Km\, DESNIVELL PUJADA: 582m\, DESNIVELL BAIXADA: 464m\, ALTURA INICI: 909m\, ALTURA FINAL: 10.32m\, ALTURA MÀXIMA: 1402m\nENCARREGAT: Josep Forés\nPREU: 20 €\nTRANSPORT: Autobús \n
URL:http://centreexcursionistabenicassim.org/event/excursio-de-villanueva-de-viver-a-pina-de-montalgrao/
CATEGORIES:Activitats
ATTACH;FMTTYPE=image/jpeg:http://centreexcursionistabenicassim.org/wp-content/uploads/2024/12/Ermita-de-Santa-Barbara-Pina-de-Montalgrao-R.jpg
END:VEVENT
END:VCALENDAR