
BEGIN:VCALENDAR
VERSION:2.0
PRODID:-//Centre Excursionista Benicassim - ECPv4.5.13//NONSGML v1.0//EN
CALSCALE:GREGORIAN
METHOD:PUBLISH
X-WR-CALNAME:Centre Excursionista Benicassim
X-ORIGINAL-URL:http://centreexcursionistabenicassim.org
X-WR-CALDESC:Events for Centre Excursionista Benicassim
BEGIN:VEVENT
DTSTART;TZID=UTC+0:20250329T080000
DTEND;TZID=UTC+0:20250329T140000
DTSTAMP:20260420T024835
CREATED:20241230T185642Z
LAST-MODIFIED:20241230T185642Z
UID:2312-1743235200-1743256800@centreexcursionistabenicassim.org
SUMMARY:EXCURSIÓ: PENYES ALTES- LA RÀPITA D’ARTANA.
DESCRIPTION:Si bé el punt més alt de l’excursió és la Ràpita d’Artana a 471m (no s’ha de confondre amb el cim més alt d’Espadà del mateix nom i en terme d’Algímia d’Almonesir)\, el nostre objectiu seran les impressionants Penyes Altes d’Artana (conegudes també com Aragoneses)\, Molts col·lectius espadànics volen que se les declare monument natural\, quan paradoxalment ni estan dins del parc natural\, això si\, per interessos econòmics. \nITINERARI. Ens concentrarem per omplir cotxes a Benicàssim i a Castelló\, dels dos llocs els cotxes eixiran a les 8\,00 h per arribar a Artana a les 8\,30 h\, on podrà acudir la resta de participants. En Artana quedarem al polígon industrial per omplir cotxes i portar els menys vehicles possibles a l’improvisat aparcament. D’allí anirem per una pista cap a la caseta del tio Xoto\, una construcció en pedra en sec ben curiosa perquè és quadrada. Tornarem a la pista asfaltada per anar al mirador situat al peu de les Penyes\, per observar tota la seua majestuositat. Per una senda un tant deteriorada arribarem dalt de les Penyes on se’ns glaçarà la sang veient aquells tallats tan verticals. Després de les fotos de rigor pujarem fins a la Ràpita amb unes vistes espectaculars de tota la Plana\, i per una senda un poc costeruda baixarem al collet de Parrús i d’allí de nou al cotxe. \nOBSERVACIONS: Excursió de mig dia\, cal dur esmorzar\, aigua i bon calcer \nDISTÀNCIA TOTAL: 10.5Km\, DESNIVELL PUJADA I BAIXADA: 386m\, ALTURA INICI I FINAL: 198m\, ALTURA MÀXIMA: 471m\nENCARREGAT: Alfons Moros.\nTRANSPORT: Cotxes particulars\nPREU: GRATUÏTA \n
URL:http://centreexcursionistabenicassim.org/event/excursio-penyes-altes-la-rapita-dartana/
CATEGORIES:Activitats
ATTACH;FMTTYPE=image/jpeg:http://centreexcursionistabenicassim.org/wp-content/uploads/2024/12/PANO_20241208_092744-R.jpg
END:VEVENT
END:VCALENDAR