
BEGIN:VCALENDAR
VERSION:2.0
PRODID:-//Centre Excursionista Benicassim - ECPv4.5.13//NONSGML v1.0//EN
CALSCALE:GREGORIAN
METHOD:PUBLISH
X-WR-CALNAME:Centre Excursionista Benicassim
X-ORIGINAL-URL:http://centreexcursionistabenicassim.org
X-WR-CALDESC:Events for Centre Excursionista Benicassim
BEGIN:VEVENT
DTSTART;VALUE=DATE:20241130
DTEND;VALUE=DATE:20241130
DTSTAMP:20260420T070916
CREATED:20240626T064505Z
LAST-MODIFIED:20240626T064505Z
UID:2240-1732924800-1733011199@centreexcursionistabenicassim.org
SUMMARY:EXCURSIÓ: SEGONA PART DEL SENDER PICS DEL DESERT. DE LA MOLA DEL MORICO A LA FONT DE PERELLÓ.
DESCRIPTION:  \nLa segona part del sender pics del Desert completa la travessa de tota la serra del Desert de les Palmes\, que vam començar al primer semestre quan vàrem pujar els cinc primers cims. \nITINERARI: Comencem a caminar a l’entrador del mas de Xiva per la senda que va crestejant a la mola del Morico. Atenció: és una pujada tècnica de pedra de rodeno. Baixem al coll de la Mola i pugem al Bartolo per les crestes. A partir de la creu del Bartolo alternem el sender per la pista que ens porta a l’alt del Colomer i les Moletes de Cabanes. Per la pista que va a les Santes arribem al coll del Ginebret on\, entrant per la cresta\, seguim una senda que passa per la caseta de Selma i arriba al camí de la Senyora.\nSeguim baixant al barranc de Miravet i acabem la travessa a la font de Perelló. \nOBSERVACIONS: Excursió de tot el dia. Cal dur esmorzar\, dinar i l’aigua suficient.\nTenim tres punts un poc tècnics en la pujada a la mola del Morico\, en les crestes del Bartolo i en la cresta del coll del Ginebret\, que podem salvar sense dificultats. D’altra banda el camí és un bonic passeig per les altures de la serra del Desert de les Palmes\nDISTÀNCIA: 13 km. Desnivell: + 775 m\nENCARREGAT: Javier Guinot\nPREU: Gratuïta\nTRANSPORT: Cotxes particulars \n
URL:http://centreexcursionistabenicassim.org/event/excursio-segona-part-del-sender-pics-del-desert-de-la-mola-del-morico-a-la-font-de-perello/
CATEGORIES:Activitats
ATTACH;FMTTYPE=image/jpeg:http://centreexcursionistabenicassim.org/wp-content/uploads/2024/06/SAM_1839.jpg
END:VEVENT
END:VCALENDAR