
BEGIN:VCALENDAR
VERSION:2.0
PRODID:-//Centre Excursionista Benicassim - ECPv4.5.13//NONSGML v1.0//EN
CALSCALE:GREGORIAN
METHOD:PUBLISH
X-WR-CALNAME:Centre Excursionista Benicassim
X-ORIGINAL-URL:http://centreexcursionistabenicassim.org
X-WR-CALDESC:Events for Centre Excursionista Benicassim
BEGIN:VEVENT
DTSTART;VALUE=DATE:20241101
DTEND;VALUE=DATE:20241103
DTSTAMP:20260422T084638
CREATED:20240626T063547Z
LAST-MODIFIED:20240626T063547Z
UID:2232-1730419200-1730678399@centreexcursionistabenicassim.org
SUMMARY:ESTADA: ELS COLORS DE LA TARDOR A LES GUILLERIES
DESCRIPTION:Les Guilleries és un macís muntanyós format per uns espectaculars i frondosos boscos atlàntics (fagedes\, roures\, castanyers\, grévols…) intercalats amb altres mediterranis (sureres\, alzines\, ullastres\, lledoners\, arbocers…) a cavall entre la comarca de la Selva de Girona i la barcelonina d’Osona\, al costat del famós macís del Montseny (Barcelona). No és tan conegut ni tan concorregut com el massificat veí. Estos boscos foren l’amagatall del mític bandoler Joan de Serrallonga\, el Robin Hood català. Al cor de les Guilleries es troba un bonic poble\, Sant Hilari Sacalm\, conegut per les seues aigües medicinals. Segur que tots coneixeu l’aigua de Font Vella\, brollador que es troba a pocs km del poble\, si bé va ser una altra font\, millor dit fonts les que varen donar fama a la localitat. A les acaballes del segle XIX la burgesia catalana anava al luxós balneari de la Font Picant a prendre les aigües . \nSi voleu saber més sobre les Guilleries\, podeu descarregar-vos en pdf el llibre del mateix títol editat per la diputació de Girona a:\nhttps://www.ddgi.cat/publicacions/servlet/pdf-quadern/666/Les-Guilleries.pdf \nPROGRAMA\nDivendres 1 de novembre.\nEixirem de Castelló a les7.00 h i aturant-nos a Benicàssim per arreplegar la resta d’excursionistes\, en direcció al Montseny per a fer la primera excursió. Ens dirigim al poble d’El Figaró\, per visitar l’ermita romànica del s. XII de Sant Pere de Vallcàrquera remuntant la riera del mateix nom. Després de dinar reprendrem la ruta cap a Sant Hilari on anirem a l’hotel a repartir les habitacions.\nDissabte 2 de novembre.\nAnirem pels boscos on s’amagava Serrallonga\, boscos molt frondosos\, on esperem no topar amb  l’esperit de cap aquells bandolers. Dinarem per la zona i per la vesprada podrem gaudir de les aigües termals de les Guilleries.\nDiumenge 3 de novembre\nAnirem al castell de Mascarbó passant per la font d’en Gurb i com no\, per la font Vella. En acabar l’excursió dinarem en un restaurant local i seguidament emprendrem el viatge de retorn. \nA hores d’ara encara no podem concretar molta cosa. Encara no sabem el preu i les excursions no són definitives. S’anunciara degudament abans de la inscripció.\nEns allotjarem a l’ hotel Ripoll (3*) de Sant Hilari Sacalm\, en habitacions dobles en règim de mitja pensió. \n
URL:http://centreexcursionistabenicassim.org/event/estada-els-colors-de-la-tardor-a-les-guilleries/
CATEGORIES:Activitats,Especials
ATTACH;FMTTYPE=image/jpeg:http://centreexcursionistabenicassim.org/wp-content/uploads/2024/06/OMIMG_20240426_095923.jpg
END:VEVENT
END:VCALENDAR