
BEGIN:VCALENDAR
VERSION:2.0
PRODID:-//Centre Excursionista Benicassim - ECPv4.5.13//NONSGML v1.0//EN
CALSCALE:GREGORIAN
METHOD:PUBLISH
X-WR-CALNAME:Centre Excursionista Benicassim
X-ORIGINAL-URL:http://centreexcursionistabenicassim.org
X-WR-CALDESC:Events for Centre Excursionista Benicassim
BEGIN:VEVENT
DTSTART;TZID=UTC+0:20230902T203000
DTEND;TZID=UTC+0:20230903T003000
DTSTAMP:20260424T110923
CREATED:20230702T083144Z
LAST-MODIFIED:20230702T083144Z
UID:2087-1693686600-1693701000@centreexcursionistabenicassim.org
SUMMARY:EXCURSIÓ: NIT DE LA LLUNA BLAVA D’AGOST A LA TORRE DE LA SAL
DESCRIPTION:Reprenem este agradable passeig per la costa en el dissabte més pròxim a la lluna blava d’agost. Esperem que no estiga ennuvolat.\nITINERARI: Eixida davant de l’hotel Voramar a les 20.30 h.\nComencem a caminar per la via verda fins arribar a Orpesa\, platja de la Conxa\, torre del Rei\, platja de Morro de Gos.\nRessoparem als jardins de Marina d’Or\, seguirem per les passarel·les de fusta passant per davant dels càmpings i arribarem a Torre la Sal davant del restaurant Artemio\, on donarem per acabada la ruta al voltant de les 00.30 h. \nOBSERVACIONS: Excursió de dificultat baixa. Porteu aigua i menjar per a ressopar.\nDISTÀNCIA: 12 km\nENCARREGAT: José Antonio Ramos\nPREU: GRATUÏTA\nTRANSPORT: Cotxes particulars. En deixarem algun a Torre la Sal per a la tornada. \n
URL:http://centreexcursionistabenicassim.org/event/excursio-nit-de-la-lluna-blava-dagost-a-la-torre-de-la-sal/
CATEGORIES:Activitats
ATTACH;FMTTYPE=image/jpeg:http://centreexcursionistabenicassim.org/wp-content/uploads/2023/07/LLUNA-PLENA-B.jpg
END:VEVENT
END:VCALENDAR