
BEGIN:VCALENDAR
VERSION:2.0
PRODID:-//Centre Excursionista Benicassim - ECPv4.5.13//NONSGML v1.0//EN
CALSCALE:GREGORIAN
METHOD:PUBLISH
X-WR-CALNAME:Centre Excursionista Benicassim
X-ORIGINAL-URL:http://centreexcursionistabenicassim.org
X-WR-CALDESC:Events for Centre Excursionista Benicassim
BEGIN:VEVENT
DTSTART;VALUE=DATE:20230618
DTEND;VALUE=DATE:20230618
DTSTAMP:20260424T081032
CREATED:20221226T183346Z
LAST-MODIFIED:20230303T051952Z
UID:2052-1687046400-1687132799@centreexcursionistabenicassim.org
SUMMARY:EXCURSIÓ: PUJADA AL PIC DE PENYAGOLOSA PASSANT PEL TOSSAL DE FRAGA PER A FER FOTORECLAM (PHOTOCALL)
DESCRIPTION:A PARTIR DEL DIA 2 DE MARÇ DE 2023 ELS NO SOCIS JA NO HAN DE PAGAR ELS 5 EUROS DE QUOTA EXTRA..  \nDURANT DUES VEGADES PODRAN PARTICIPAR A LES EXCURSIONS PAGANT EL MATEIX QUE ELS SOCIS.A PARTIR DE LA TERCERA VOLTA SERÀ PRECÍS ACREDITAR LA CONDICIÓ DE SOCI. \nCom a acomiadament del semestre farem un clàssic: pujar al pic de Penyagolosa. \nITINERARI: Eixida a les 7:00 h de Castelló (c/ Pintor Carbó 14) i a les 7:30 h de Benicàssim (plaça de les Corts Valencianes) en autobús fins a l’ermitori de Sant Joan de Penyagolosa. Farem la pujada pel barranc de la Pegunta (on es fabricava la pega per a marcar els animals) i la baixada per la font de la Cambreta i la lloma del Conill.\nLa singularitat de l’excursió és que a mitan camí ens desviarem al Portellàs i ens allargarem a «burro-barra» fins al tossal de Fraga per a fer una autèntica sessió de fotos ja que\, per a molts\, és des d’on hi ha la imatge més bonica i impactant del tallat del pic de Penyagolosa.\nAl baixar\, quan passarem pel mas de la Cambreta\, aprofitarem per passar a veure la nevera del Comte d’Aranda i els petròglifs fulliformes. \nOBSERVACIONS: Excursió de tot el dia de dificultat mitjana pel desnivell i perquè passarem per una zona sense camí. Desnivell acumulat: 600 m. Cal dur esmorzar i dinar. Convé portar dos litres mínim d’aigua per l’època de l’any en què la farem\, barret i protecció solar.\nDISTÀNCIA: 13 km\nENCARREGATS: Esperanza Segarra i José Antonio Ramos\nPREU: 20 €\nTRANSPORT: Autobús \n
URL:http://centreexcursionistabenicassim.org/event/excursio-pujada-al-pic-de-penyagolosa-passant-pel-tossal-de-fraga-per-a-fer-fotoreclam-photocall/
CATEGORIES:Activitats
ATTACH;FMTTYPE=image/jpeg:http://centreexcursionistabenicassim.org/wp-content/uploads/2022/12/PENAGOLOSA.jpg
END:VEVENT
END:VCALENDAR