
BEGIN:VCALENDAR
VERSION:2.0
PRODID:-//Centre Excursionista Benicassim - ECPv4.5.13//NONSGML v1.0//EN
CALSCALE:GREGORIAN
METHOD:PUBLISH
X-WR-CALNAME:Centre Excursionista Benicassim
X-ORIGINAL-URL:http://centreexcursionistabenicassim.org
X-WR-CALDESC:Events for Centre Excursionista Benicassim
BEGIN:VEVENT
DTSTART;VALUE=DATE:20230521
DTEND;VALUE=DATE:20230521
DTSTAMP:20260424T095948
CREATED:20230502T151527Z
LAST-MODIFIED:20230502T151527Z
UID:2067-1684627200-1684713599@centreexcursionistabenicassim.org
SUMMARY:EXCURSIÓ: TRAVESSIA DE CULLA A VILAFRANCA PEL PR CV-1
DESCRIPTION:ITINERARI:  \nEixida amb bus:  \n 7:30 h. Castelló C/ Pintor Carbó 14 (davant l’auditori) \n 7:45 h. Benicàssim Plaça Corts Valencianes \n 8:05 h. Rotonda Borriol-Nord \nCaminarem per terres del Maestrat pel PR-CV 1\, en una preciosa ruta\, des de Culla fins a Vilafranca.  \nEixirem de Culla\, una joia dels templers\, per damunt dels 1.000 m d’altura\, baixant cap al riu Sec. Tornarem a pujar cap a la creu que separa els termes de Vilafranca i Benassal ja per damunt dels 1.100m i arribarem fins a l’escola del Canto\, escola rural del temps de la república en funcionament fins a 1973. I ja des d’allí a Vilafranca. \nOBSERVACIONS: \nDesnivell positiu 524 m \nDificultat mitjana. Cal dur molta aigua\, per les dates que estem\, bon calcer\, esmorzar i dinar.  \nDISTÀNCIA: 16\, 5 Km. \nENCARREGAT: Javier Guinot \nPREU: 20 € socis\, 25 € no socis \nTRANSPORT: Autobús \n
URL:http://centreexcursionistabenicassim.org/event/excursio-travessia-de-culla-a-vilafranca-pel-pr-cv-1/
CATEGORIES:Activitats
END:VEVENT
END:VCALENDAR